BEGIN:VCALENDAR
VERSION:2.0
METHOD:PUBLISH
X-WR-CALNAME:Tromsø klatreklubb |  november 27 2010- desember 27 2010
PRODID:-//strange bird labs//Drupal iCal API//EN
BEGIN:VEVENT
DTSTAMP;VALUE=DATE-TIME:20260328T023945Z
DTSTART;VALUE=DATE-TIME:20101127T140000Z
DTEND;VALUE=DATE-TIME:20101128T120000Z
UID:http://www.tromsoklatring.no/content/kurs-i-klatrehallen-3
URL;VALUE=URI:http://www.tromsoklatring.no/content/kurs-i-klatrehallen-3
SUMMARY:Kurs i klatrehallen
END:VEVENT
END:VCALENDAR
