BEGIN:VCALENDAR
VERSION:2.0
METHOD:PUBLISH
X-WR-CALNAME:Tromsø klatreklubb |  oktober 08 2010- november 07 2010
PRODID:-//strange bird labs//Drupal iCal API//EN
BEGIN:VEVENT
DTSTAMP;VALUE=DATE-TIME:20260412T093636Z
DTSTART;VALUE=DATE-TIME:20101016T140000Z
DTEND;VALUE=DATE-TIME:20101017T120000Z
UID:http://www.tromsoklatring.no/content/kurs-i-klatrehallen-1
URL;VALUE=URI:http://www.tromsoklatring.no/content/kurs-i-klatrehallen-1
SUMMARY:Kurs i klatrehallen
END:VEVENT
BEGIN:VEVENT
DTSTAMP;VALUE=DATE-TIME:20260412T093636Z
DTSTART;VALUE=DATE-TIME:20101023T081300Z
DTEND;VALUE=DATE-TIME:20101023T081300Z
UID:http://www.tromsoklatring.no/content/buldrerommet-stengt-l%C3%B8rdag-23-oktober
URL;VALUE=URI:http://www.tromsoklatring.no/content/buldrerommet-stengt-l%C3%B8rdag-23-oktober
SUMMARY:Buldrerommet stengt lørdag 23. oktober
DESCRIPTION:<p>N&aring\; er duk og tjukkas kommet til byen og for &aring\; f&aring\; dette p&aring\; plass og gj&oslash\;re siste finpuss p&aring\; buldrerommet holdes dette stengt f&oslash\;rstkommende l&oslash\;rdag.<br /</p />
 </p>
END:VEVENT
BEGIN:VEVENT
DTSTAMP;VALUE=DATE-TIME:20260412T093636Z
DTSTART;VALUE=DATE-TIME:20101030T140000Z
DTEND;VALUE=DATE-TIME:20101030T170000Z
UID:http://www.tromsoklatring.no/content/buldre-konkurranse
URL;VALUE=URI:http://www.tromsoklatring.no/content/buldre-konkurranse
SUMMARY:Buldre konkurranse
DESCRIPTION:<p><a href=\\"http\://www.tromsoklatring.no/content/buldrekonkurranse-30-oktober\\" title=\\"http\://www.tromsoklatring.no/content/buldrekonkurranse-30-oktober\\">http\://www.tromsoklatring.no/content/buldrekonkurranse-30-oktober</a></p>
 
END:VEVENT
BEGIN:VEVENT
DTSTAMP;VALUE=DATE-TIME:20260412T093636Z
DTSTART;VALUE=DATE-TIME:20101106T140000Z
DTEND;VALUE=DATE-TIME:20101107T120000Z
UID:http://www.tromsoklatring.no/content/kurs-i-klatrehallen-2
URL;VALUE=URI:http://www.tromsoklatring.no/content/kurs-i-klatrehallen-2
SUMMARY:Kurs i klatrehallen
END:VEVENT
END:VCALENDAR
